OziExplorer Map Data File Version 2.2
M-37-8-Б.jpg
E:\GPS\карты\500m_непривязаные\М-37-8-А,Б,В\M-37-8-B.jpg
1 ,Map Code,
Pulkovo 1942 (1),WGS 84, 0.0000, 0.0000,WGS 84
Reserved 1
Reserved 2
Magnetic Variation,,,E
Map Projection,Transverse Mercator,PolyCal,No,AutoCalOnly,No,BSBUseWPX,No
Point01,xy, 707, 460,in, deg, , ,N, , ,W, grid, , 556000, 5761000,N
Point02,xy, 708, 2507,in, deg, , ,N, , ,W, grid, , 556000, 5748000,N
Point03,xy, 2439, 2507,in, deg, , ,N, , ,W, grid, , 567000, 5748000,N
Point04,xy, 2439, 615,in, deg, , ,N, , ,W, grid, , 567000, 5760000,N
Point05,xy, , ,in, deg, , ,N, , ,W, grid, , , ,N
Point06,xy, , ,in, deg, , ,N, , ,W, grid, , , ,N
Point07,xy, , ,in, deg, , ,N, , ,W, grid, , , ,N
Point08,xy, , ,in, deg, , ,N, , ,W, grid, , , ,N
Point09,xy, , ,in, deg, , ,N, , ,W, grid, , , ,N
Point10,xy, , ,in, deg, , ,, , ,, grid, , , ,
Point11,xy, , ,in, deg, , ,, , ,, grid, , , ,
Point12,xy, , ,in, deg, , ,, , ,, grid, , , ,
Point13,xy, , ,in, deg, , ,, , ,, grid, , , ,
Point14,xy, , ,in, deg, , ,, , ,, grid, , , ,
Point15,xy, , ,in, deg, , ,, , ,, grid, , , ,
Point16,xy, , ,in, deg, , ,, , ,, grid, , , ,
Point17,xy, , ,in, deg, , ,, , ,, grid, , , ,
Point18,xy, , ,in, deg, , ,, , ,, grid, , , ,
Point19,xy, , ,in, deg, , ,, , ,, grid, , , ,
Point20,xy, , ,in, deg, , ,, , ,, grid, , , ,
Point21,xy, , ,in, deg, , ,, , ,, grid, , , ,
Point22,xy, , ,in, deg, , ,, , ,, grid, , , ,
Point23,xy, , ,in, deg, , ,, , ,, grid, , , ,
Point24,xy, , ,in, deg, , ,, , ,, grid, , , ,
Point25,xy, , ,in, deg, , ,, , ,, grid, , , ,
Point26,xy, , ,in, deg, , ,, , ,, grid, , , ,
Point27,xy, , ,in, deg, , ,, , ,, grid, , , ,
Point28,xy, , ,in, deg, , ,, , ,, grid, , , ,
Point29,xy, , ,in, deg, , ,, , ,, grid, , , ,
Point30,xy, , ,in, deg, , ,, , ,, grid, , , ,
Projection Setup, 0.000000000, 39.000000000, 1.000000000, 500000.00, 0.00,,,,,
Map Feature = MF ; Map Comment = MC These follow if they exist
Track File = TF These follow if they exist
Moving Map Parameters = MM? These follow if they exist
MM0,Yes
MMPNUM,4
MMPXY,1,0,0
MMPXY,2,2744,0
MMPXY,3,2744,2953
MMPXY,4,0,2953
MMPLL,1, 39.750013, 52.001875
MMPLL,2, 40.003811, 51.999870
MMPLL,3, 39.999991, 51.831450
MMPLL,4, 39.747140, 51.833444
MM1B,6.350407
LL Grid Setup
LLGRID,No,No Grid,Yes,255,16711680,0,No Labels,0,16777215,7,1,Yes,x
Other Grid Setup
GRGRID,No,No Grid,Yes,255,16711680,No Labels,0,16777215,8,1,Yes,No,No,x
MOP,Map Open Position,0,0
IWH,Map Image Width/Height,2744,2953
